BEGIN:VCALENDAR
VERSION:2.0
PRODID:-//eventon.com NONSGML v1.0//EN
CALSCALE:GREGORIAN
METHOD:PUBLISH
BEGIN:VEVENT
UID:69e8c33287588
DTSTAMP:20260422T124642Z
DTSTART:20240220T173000Z
DTEND:20240220T193000Z
LOCATION:
SUMMARY:Afterwork : comprendre la facturation électronique
DESCRIPTION:Afterwork : comprendre la facturation électronique\nhttps://ww
 w.cpmenord.fr/events/afterwork-comprendre-la-facturation-electronique/
URL:https://www.cpmenord.fr/events/afterwork-comprendre-la-facturation-electronique/
END:VEVENT
END:VCALENDAR